BEGIN:VCALENDAR
VERSION:2.0
PRODID:-//Apfelwein Haus - ECPv6.15.20//NONSGML v1.0//EN
CALSCALE:GREGORIAN
METHOD:PUBLISH
X-ORIGINAL-URL:https://apfelwein.haus
X-WR-CALDESC:Veranstaltungen für Apfelwein Haus
REFRESH-INTERVAL;VALUE=DURATION:PT1H
X-Robots-Tag:noindex
X-PUBLISHED-TTL:PT1H
BEGIN:VTIMEZONE
TZID:Europe/Berlin
BEGIN:DAYLIGHT
TZOFFSETFROM:+0100
TZOFFSETTO:+0200
TZNAME:CEST
DTSTART:20220327T010000
END:DAYLIGHT
BEGIN:STANDARD
TZOFFSETFROM:+0200
TZOFFSETTO:+0100
TZNAME:CET
DTSTART:20221030T010000
END:STANDARD
BEGIN:DAYLIGHT
TZOFFSETFROM:+0100
TZOFFSETTO:+0200
TZNAME:CEST
DTSTART:20230326T010000
END:DAYLIGHT
BEGIN:STANDARD
TZOFFSETFROM:+0200
TZOFFSETTO:+0100
TZNAME:CET
DTSTART:20231029T010000
END:STANDARD
BEGIN:DAYLIGHT
TZOFFSETFROM:+0100
TZOFFSETTO:+0200
TZNAME:CEST
DTSTART:20240331T010000
END:DAYLIGHT
BEGIN:STANDARD
TZOFFSETFROM:+0200
TZOFFSETTO:+0100
TZNAME:CET
DTSTART:20241027T010000
END:STANDARD
END:VTIMEZONE
BEGIN:VEVENT
DTSTART;TZID=Europe/Berlin:20230304T190000
DTEND;TZID=Europe/Berlin:20230304T210000
DTSTAMP:20260424T105558
CREATED:20230222T143356Z
LAST-MODIFIED:20230222T151949Z
UID:1407-1677956400-1677963600@apfelwein.haus
SUMMARY:„Zünftiger Hüttenabend“ mit Hütten-Menü/Büffet und Schnapstasting
DESCRIPTION:Wir bitten um rechtzeitige Reservierung.\n/ Preis 29\,50 € pro Person
URL:https://apfelwein.haus/event/zuenftiger-huettenabend-mit-huetten-menue-bueffet-und-schnapstasting/
LOCATION:Apfelweinhaus – Schwarzer Adler\, Marktplatz 5\, Michelstadt\, 64720
ATTACH;FMTTYPE=image/jpeg:https://apfelwein.haus/wp-content/uploads/2023/02/WhatsApp-Image-2023-02-21-at-14.43.44.jpeg
END:VEVENT
END:VCALENDAR